BEGIN:VCALENDAR
VERSION:2.0
CALSCALE:GREGORIAN
PRODID:-//Diputació de Barcelona//DibaCMS//EN
BEGIN:VEVENT
UID:6276
DTSTAMP:20260423T192641
DTSTART:20120224T180000
DTEND:20120224T000000
SUMMARY:Hora del conte: Històries del meu poblet. A càrrec de Yolanda Soriano
LOCATION:
METHOD:PUBLISH
X-WR-CALNAME:caldesm@caldesdemontbui.cat
X-WR-TIMEZONE:Europe/Madrid
DESCRIPTION:
URI:https://www.caldesdemontbui.cat/actualitat/agenda/hora-del-conte-histories-del-meu-poblet-a-carrec-de-yolanda-soriano.html
CLASS:PUBLIC
END:VEVENT
END:VCALENDAR
