BEGIN:VCALENDAR
VERSION:2.0
CALSCALE:GREGORIAN
PRODID:-//Diputació de Barcelona//DibaCMS//EN
BEGIN:VEVENT
UID:6273
DTSTAMP:20260423T175438
DTSTART:20120222T160000
DTEND:20120222T000000
SUMMARY:Xerrada: Les al·lèrgies, a càrrec de la dra. Bonamusa
LOCATION:
METHOD:PUBLISH
X-WR-CALNAME:caldesm@caldesdemontbui.cat
X-WR-TIMEZONE:Europe/Madrid
DESCRIPTION:
URI:https://www.caldesdemontbui.cat/actualitat/agenda/xerrada-les-allergies-a-carrec-de-la-dra-bonamusa.html
CLASS:PUBLIC
END:VEVENT
END:VCALENDAR
