BEGIN:VCALENDAR
VERSION:2.0
CALSCALE:GREGORIAN
PRODID:-//Diputació de Barcelona//DibaCMS//EN
BEGIN:VEVENT
UID:6272
DTSTAMP:20260424T123042
DTSTART:20120222T090000
DTEND:20120222T000000
SUMMARY:Caminades de l'Esplai: Carnestoltes a Can Patxau
LOCATION:
METHOD:PUBLISH
X-WR-CALNAME:caldesm@caldesdemontbui.cat
X-WR-TIMEZONE:Europe/Madrid
DESCRIPTION:
URI:https://www.caldesdemontbui.cat/actualitat/agenda/caminades-de-lesplai-carnestoltes-a-can-patxau.html
CLASS:PUBLIC
END:VEVENT
END:VCALENDAR
