BEGIN:VCALENDAR
VERSION:2.0
CALSCALE:GREGORIAN
PRODID:-//Diputació de Barcelona//DibaCMS//EN
BEGIN:VEVENT
UID:6268
DTSTAMP:20260423T224535
DTSTART:20120220T173000
DTEND:20120220T000000
SUMMARY:Cicle aprendre per desaprendre: Camí del dol. Com acompanyar en la pèrdua?
LOCATION:
METHOD:PUBLISH
X-WR-CALNAME:caldesm@caldesdemontbui.cat
X-WR-TIMEZONE:Europe/Madrid
DESCRIPTION:
URI:https://www.caldesdemontbui.cat/actualitat/agenda/cicle-aprendre-per-desaprendre-cami-del-dol-com-acompanyar-en-la-perdua.html
CLASS:PUBLIC
END:VEVENT
END:VCALENDAR
