BEGIN:VCALENDAR
VERSION:2.0
CALSCALE:GREGORIAN
PRODID:-//Diputació de Barcelona//DibaCMS//EN
BEGIN:VEVENT
UID:6267
DTSTAMP:20260424T022739
DTSTART:20120219T180000
DTEND:20120219T000000
SUMMARY:Taca'm 2012: Interès variable, a càrrec de la cia. Passen Coses
LOCATION:
METHOD:PUBLISH
X-WR-CALNAME:caldesm@caldesdemontbui.cat
X-WR-TIMEZONE:Europe/Madrid
DESCRIPTION:
URI:https://www.caldesdemontbui.cat/actualitat/agenda/tacam-2012-interes-variable-a-carrec-de-la-cia-passen-coses.html
CLASS:PUBLIC
END:VEVENT
END:VCALENDAR
