BEGIN:VCALENDAR
VERSION:2.0
CALSCALE:GREGORIAN
PRODID:-//Diputació de Barcelona//DibaCMS//EN
BEGIN:VEVENT
UID:6265
DTSTAMP:20260423T214309
DTSTART:20120218T200000
DTEND:20120218T000000
SUMMARY:Carnaval 2012: Ball de disfresses, lliurament de premis, lectura d'esbroncs i crema del ninot
LOCATION:
METHOD:PUBLISH
X-WR-CALNAME:caldesm@caldesdemontbui.cat
X-WR-TIMEZONE:Europe/Madrid
DESCRIPTION:
URI:https://www.caldesdemontbui.cat/actualitat/agenda/carnaval-2012-ball-de-disfresses-lliurament-de-premis-lectura-desbroncs-i-crema-del-ninot.html
CLASS:PUBLIC
END:VEVENT
END:VCALENDAR
