BEGIN:VCALENDAR
VERSION:2.0
CALSCALE:GREGORIAN
PRODID:-//Diputació de Barcelona//DibaCMS//EN
BEGIN:VEVENT
UID:6264
DTSTAMP:20260423T174404
DTSTART:20120218T183000
DTEND:20120218T000000
SUMMARY:Carnaval 2012: Rua de Carnaval
LOCATION:
METHOD:PUBLISH
X-WR-CALNAME:caldesm@caldesdemontbui.cat
X-WR-TIMEZONE:Europe/Madrid
DESCRIPTION:
URI:https://www.caldesdemontbui.cat/actualitat/agenda/carnaval-2012-rua-de-carnaval.html
CLASS:PUBLIC
END:VEVENT
END:VCALENDAR
