BEGIN:VCALENDAR
VERSION:2.0
CALSCALE:GREGORIAN
PRODID:-//Diputació de Barcelona//DibaCMS//EN
BEGIN:VEVENT
UID:6263
DTSTAMP:20260424T150835
DTSTART:20120218T173000
DTEND:20120218T000000
SUMMARY:Carnaval 2012: carnaval infantil
LOCATION:
METHOD:PUBLISH
X-WR-CALNAME:caldesm@caldesdemontbui.cat
X-WR-TIMEZONE:Europe/Madrid
DESCRIPTION:
URI:https://www.caldesdemontbui.cat/actualitat/agenda/carnaval-2012-carnaval-infantil.html
CLASS:PUBLIC
END:VEVENT
END:VCALENDAR
