BEGIN:VCALENDAR
VERSION:2.0
CALSCALE:GREGORIAN
PRODID:-//Diputació de Barcelona//DibaCMS//EN
BEGIN:VEVENT
UID:6262
DTSTAMP:20260424T085542
DTSTART:20120217T203000
DTEND:20120217T000000
SUMMARY:Carnaval 2012: El Cafè del Centre. Concert de disbauxa de Carnestoltes, amb Pulpopop
LOCATION:
METHOD:PUBLISH
X-WR-CALNAME:caldesm@caldesdemontbui.cat
X-WR-TIMEZONE:Europe/Madrid
DESCRIPTION:
URI:https://www.caldesdemontbui.cat/actualitat/agenda/carnaval-2012-el-cafe-del-centre-concert-de-disbauxa-de-carnestoltes-amb-pulpopop.html
CLASS:PUBLIC
END:VEVENT
END:VCALENDAR
