BEGIN:VCALENDAR
VERSION:2.0
CALSCALE:GREGORIAN
PRODID:-//Diputació de Barcelona//DibaCMS//EN
BEGIN:VEVENT
UID:6261
DTSTAMP:20260424T022811
DTSTART:20120217T160000
DTEND:20120217T000000
SUMMARY:Celebració de Carnestoltes de la Fundació Santa Susanna
LOCATION:
METHOD:PUBLISH
X-WR-CALNAME:caldesm@caldesdemontbui.cat
X-WR-TIMEZONE:Europe/Madrid
DESCRIPTION:
URI:https://www.caldesdemontbui.cat/actualitat/agenda/celebracio-de-carnestoltes-de-la-fundacio-santa-susanna.html
CLASS:PUBLIC
END:VEVENT
END:VCALENDAR
