BEGIN:VCALENDAR
VERSION:2.0
CALSCALE:GREGORIAN
PRODID:-//Diputació de Barcelona//DibaCMS//EN
BEGIN:VEVENT
UID:6259
DTSTAMP:20260423T182838
DTSTART:20120216T180000
DTEND:20120216T000000
SUMMARY:Contes en anglès a la Biblioteca de Caldes: STORY TIME: Little Red Riding Hood
LOCATION:
METHOD:PUBLISH
X-WR-CALNAME:caldesm@caldesdemontbui.cat
X-WR-TIMEZONE:Europe/Madrid
DESCRIPTION:
URI:https://www.caldesdemontbui.cat/actualitat/agenda/contes-en-angles-a-la-biblioteca-de-caldes-story-time-little-red-riding-hood.html
CLASS:PUBLIC
END:VEVENT
END:VCALENDAR
