BEGIN:VCALENDAR
VERSION:2.0
CALSCALE:GREGORIAN
PRODID:-//Diputació de Barcelona//DibaCMS//EN
BEGIN:VEVENT
UID:6258
DTSTAMP:20260423T200103
DTSTART:20120216T160000
DTEND:20120216T000000
SUMMARY:Celebració del Dijous Gras dels Grups de Gimnàstica
LOCATION:
METHOD:PUBLISH
X-WR-CALNAME:caldesm@caldesdemontbui.cat
X-WR-TIMEZONE:Europe/Madrid
DESCRIPTION:
URI:https://www.caldesdemontbui.cat/actualitat/agenda/celebracio-del-dijous-gras-dels-grups-de-gimnastica.html
CLASS:PUBLIC
END:VEVENT
END:VCALENDAR
