BEGIN:VCALENDAR
VERSION:2.0
CALSCALE:GREGORIAN
PRODID:-//Diputació de Barcelona//DibaCMS//EN
BEGIN:VEVENT
UID:6257
DTSTAMP:20260423T233141
DTSTART:20120215T100000
DTEND:20120215T000000
SUMMARY:Últim dia per visitar l'Exposició : Maquetisme naval i militar, a la Biblioteca de Caldes
LOCATION:
METHOD:PUBLISH
X-WR-CALNAME:caldesm@caldesdemontbui.cat
X-WR-TIMEZONE:Europe/Madrid
DESCRIPTION:
URI:https://www.caldesdemontbui.cat/actualitat/agenda/ltim-dia-per-visitar-lexposicio--maquetisme-naval-i-militar-a-la-biblioteca-de-caldes.html
CLASS:PUBLIC
END:VEVENT
END:VCALENDAR
