BEGIN:VCALENDAR
VERSION:2.0
CALSCALE:GREGORIAN
PRODID:-//Diputació de Barcelona//DibaCMS//EN
BEGIN:VEVENT
UID:6256
DTSTAMP:20260423T210424
DTSTART:20120215T090000
DTEND:20120215T000000
SUMMARY:Caminades de l'Esplai: El Mas d'en Sisa
LOCATION:
METHOD:PUBLISH
X-WR-CALNAME:caldesm@caldesdemontbui.cat
X-WR-TIMEZONE:Europe/Madrid
DESCRIPTION:
URI:https://www.caldesdemontbui.cat/actualitat/agenda/caminades-de-lesplai-el-mas-den-sisa.html
CLASS:PUBLIC
END:VEVENT
END:VCALENDAR
