BEGIN:VCALENDAR
VERSION:2.0
CALSCALE:GREGORIAN
PRODID:-//Diputació de Barcelona//DibaCMS//EN
BEGIN:VEVENT
UID:6255
DTSTAMP:20260424T035644
DTSTART:20120214T190000
DTEND:20120214T000000
SUMMARY:Jornada en defensa de l'escola pública
LOCATION:
METHOD:PUBLISH
X-WR-CALNAME:caldesm@caldesdemontbui.cat
X-WR-TIMEZONE:Europe/Madrid
DESCRIPTION:
URI:https://www.caldesdemontbui.cat/actualitat/agenda/jornada-en-defensa-de-lescola-pblica.html
CLASS:PUBLIC
END:VEVENT
END:VCALENDAR
