BEGIN:VCALENDAR
VERSION:2.0
CALSCALE:GREGORIAN
PRODID:-//Diputació de Barcelona//DibaCMS//EN
BEGIN:VEVENT
UID:6254
DTSTAMP:20260423T163348
DTSTART:20120213T000000
DTEND:20120213T000000
SUMMARY:Setmana del bon humor de la Residència Santa Susanna. Fins el 19 de febrer
LOCATION:
METHOD:PUBLISH
X-WR-CALNAME:caldesm@caldesdemontbui.cat
X-WR-TIMEZONE:Europe/Madrid
DESCRIPTION:
URI:https://www.caldesdemontbui.cat/actualitat/agenda/setmana-del-bon-humor-de-la-residencia-santa-susanna-fins-el-19-de-febrer.html
CLASS:PUBLIC
END:VEVENT
END:VCALENDAR
