BEGIN:VCALENDAR
VERSION:2.0
CALSCALE:GREGORIAN
PRODID:-//Diputació de Barcelona//DibaCMS//EN
BEGIN:VEVENT
UID:6252
DTSTAMP:20260423T224402
DTSTART:20120212T180000
DTEND:20120212T000000
SUMMARY:Taca'm 2012: Les dones sàvies, a càrrec d'Espardenya Teatre
LOCATION:
METHOD:PUBLISH
X-WR-CALNAME:caldesm@caldesdemontbui.cat
X-WR-TIMEZONE:Europe/Madrid
DESCRIPTION:
URI:https://www.caldesdemontbui.cat/actualitat/agenda/tacam-2012-les-dones-savies-a-carrec-despardenya-teatre.html
CLASS:PUBLIC
END:VEVENT
END:VCALENDAR
