BEGIN:VCALENDAR
VERSION:2.0
CALSCALE:GREGORIAN
PRODID:-//Diputació de Barcelona//DibaCMS//EN
BEGIN:VEVENT
UID:6250
DTSTAMP:20260423T223752
DTSTART:20120211T000000
DTEND:20120211T000000
SUMMARY:Sortida al Puigmal pel Pas dels Lladres
LOCATION:
METHOD:PUBLISH
X-WR-CALNAME:caldesm@caldesdemontbui.cat
X-WR-TIMEZONE:Europe/Madrid
DESCRIPTION:
URI:https://www.caldesdemontbui.cat/actualitat/agenda/sortida-al-puigmal-pel-pas-dels-lladres.html
CLASS:PUBLIC
END:VEVENT
END:VCALENDAR
