BEGIN:VCALENDAR
VERSION:2.0
CALSCALE:GREGORIAN
PRODID:-//Diputació de Barcelona//DibaCMS//EN
BEGIN:VEVENT
UID:6249
DTSTAMP:20260423T200118
DTSTART:20120210T200000
DTEND:20120210T000000
SUMMARY:III Cicle Parlem de Catalunya. Conferència a càrrec del Conseller de Cultura, Ferran Mascarell
LOCATION:
METHOD:PUBLISH
X-WR-CALNAME:caldesm@caldesdemontbui.cat
X-WR-TIMEZONE:Europe/Madrid
DESCRIPTION:
URI:https://www.caldesdemontbui.cat/actualitat/agenda/iii-cicle-parlem-de-catalunya-conferencia-a-carrec-del-conseller-de-cultura-ferran-mascarell.html
CLASS:PUBLIC
END:VEVENT
END:VCALENDAR
