BEGIN:VCALENDAR
VERSION:2.0
CALSCALE:GREGORIAN
PRODID:-//Diputació de Barcelona//DibaCMS//EN
BEGIN:VEVENT
UID:6248
DTSTAMP:20260423T220050
DTSTART:20120210T190000
DTEND:20120210T000000
SUMMARY:Exposició de gravats d'Antoni Vila Arrufat (beneficis per la recuperació de l'església de Sant Sebastià de Montmajor)
LOCATION:
METHOD:PUBLISH
X-WR-CALNAME:caldesm@caldesdemontbui.cat
X-WR-TIMEZONE:Europe/Madrid
DESCRIPTION:
URI:https://www.caldesdemontbui.cat/actualitat/agenda/exposicio-de-gravats-dantoni-vila-arrufat-beneficis-per-la-recuperacio-de-lesglesia-de-sant-sebastia-de-montmajor.html
CLASS:PUBLIC
END:VEVENT
END:VCALENDAR
