BEGIN:VCALENDAR
VERSION:2.0
CALSCALE:GREGORIAN
PRODID:-//Diputació de Barcelona//DibaCMS//EN
BEGIN:VEVENT
UID:6247
DTSTAMP:20260423T163246
DTSTART:20120210T180000
DTEND:20120210T000000
SUMMARY:Trobada del Club dels Enganxats. 16è Premi de Literatura "Protagonista Jove". Categoria 15-16 anys
LOCATION:
METHOD:PUBLISH
X-WR-CALNAME:caldesm@caldesdemontbui.cat
X-WR-TIMEZONE:Europe/Madrid
DESCRIPTION:
URI:https://www.caldesdemontbui.cat/actualitat/agenda/trobada-del-club-dels-enganxats-16e-premi-de-literatura-protagonista-jove-categoria-15-16-anys.html
CLASS:PUBLIC
END:VEVENT
END:VCALENDAR
