BEGIN:VCALENDAR
VERSION:2.0
CALSCALE:GREGORIAN
PRODID:-//Diputació de Barcelona//DibaCMS//EN
BEGIN:VEVENT
UID:6246
DTSTAMP:20260423T193039
DTSTART:20120209T200000
DTEND:20120209T000000
SUMMARY:Xerrada "9 idees per entendre's amb els adolescents"
LOCATION:
METHOD:PUBLISH
X-WR-CALNAME:caldesm@caldesdemontbui.cat
X-WR-TIMEZONE:Europe/Madrid
DESCRIPTION:
URI:https://www.caldesdemontbui.cat/actualitat/agenda/xerrada-9-idees-per-entendres-amb-els-adolescents.html
CLASS:PUBLIC
END:VEVENT
END:VCALENDAR
