BEGIN:VCALENDAR
VERSION:2.0
CALSCALE:GREGORIAN
PRODID:-//Diputació de Barcelona//DibaCMS//EN
BEGIN:VEVENT
UID:6242
DTSTAMP:20260423T190957
DTSTART:20120207T180000
DTEND:20120207T000000
SUMMARY:Trobada del Club dels Enganxats. 7è Premi de Literatura Infantil "Atrapallibres". Categoria 9 anys
LOCATION:
METHOD:PUBLISH
X-WR-CALNAME:caldesm@caldesdemontbui.cat
X-WR-TIMEZONE:Europe/Madrid
DESCRIPTION:
URI:https://www.caldesdemontbui.cat/actualitat/agenda/trobada-del-club-dels-enganxats-7e-premi-de-literatura-infantil-atrapallibres-categoria-9-anys.html
CLASS:PUBLIC
END:VEVENT
END:VCALENDAR
