BEGIN:VCALENDAR
VERSION:2.0
CALSCALE:GREGORIAN
PRODID:-//Diputació de Barcelona//DibaCMS//EN
BEGIN:VEVENT
UID:6241
DTSTAMP:20260423T205846
DTSTART:20120207T173000
DTEND:20120207T000000
SUMMARY:Cursos d'Internet a la Biblioteca de Caldes. El 7 de febrer s'inicia el curs de nivell inicial
LOCATION:
METHOD:PUBLISH
X-WR-CALNAME:caldesm@caldesdemontbui.cat
X-WR-TIMEZONE:Europe/Madrid
DESCRIPTION:
URI:https://www.caldesdemontbui.cat/actualitat/agenda/cursos-dinternet-a-la-biblioteca-de-caldes-el-7-de-febrer-sinicia-el-curs-de-nivell-inicial.html
CLASS:PUBLIC
END:VEVENT
END:VCALENDAR
