BEGIN:VCALENDAR
VERSION:2.0
CALSCALE:GREGORIAN
PRODID:-//Diputació de Barcelona//DibaCMS//EN
BEGIN:VEVENT
UID:6237
DTSTAMP:20260423T235634
DTSTART:20120206T200000
DTEND:20120206T000000
SUMMARY:Inici del segon grup de Country
LOCATION:
METHOD:PUBLISH
X-WR-CALNAME:caldesm@caldesdemontbui.cat
X-WR-TIMEZONE:Europe/Madrid
DESCRIPTION:
URI:https://www.caldesdemontbui.cat/actualitat/agenda/inici-del-segon-grup-de-country.html
CLASS:PUBLIC
END:VEVENT
END:VCALENDAR
