BEGIN:VCALENDAR
VERSION:2.0
CALSCALE:GREGORIAN
PRODID:-//Diputació de Barcelona//DibaCMS//EN
BEGIN:VEVENT
UID:6236
DTSTAMP:20260423T203618
DTSTART:20120206T183000
DTEND:20120206T000000
SUMMARY:Trobada del Club dels Enganxats. 16è Premi de Literatura "Protagonista Jove". Categoria 13 i 14 anys
LOCATION:
METHOD:PUBLISH
X-WR-CALNAME:caldesm@caldesdemontbui.cat
X-WR-TIMEZONE:Europe/Madrid
DESCRIPTION:
URI:https://www.caldesdemontbui.cat/actualitat/agenda/trobada-del-club-dels-enganxats-16e-premi-de-literatura-protagonista-jove-categoria-13-i-14-anys.html
CLASS:PUBLIC
END:VEVENT
END:VCALENDAR
