BEGIN:VCALENDAR
VERSION:2.0
CALSCALE:GREGORIAN
PRODID:-//Diputació de Barcelona//DibaCMS//EN
BEGIN:VEVENT
UID:6235
DTSTAMP:20260423T221739
DTSTART:20120205T180000
DTEND:20120205T000000
SUMMARY:Taca'm 2012: Mentiders, a càrrec d'Atrezzo - Cri Crac Teatre
LOCATION:
METHOD:PUBLISH
X-WR-CALNAME:caldesm@caldesdemontbui.cat
X-WR-TIMEZONE:Europe/Madrid
DESCRIPTION:
URI:https://www.caldesdemontbui.cat/actualitat/agenda/tacam-2012-mentiders-a-carrec-datrezzo---cri-crac-teatre.html
CLASS:PUBLIC
END:VEVENT
END:VCALENDAR
