BEGIN:VCALENDAR
VERSION:2.0
CALSCALE:GREGORIAN
PRODID:-//Diputació de Barcelona//DibaCMS//EN
BEGIN:VEVENT
UID:6233
DTSTAMP:20260423T205425
DTSTART:20120203T000000
DTEND:20120205T000000
SUMMARY:5è Campionat Ral·li Slot
LOCATION:
METHOD:PUBLISH
X-WR-CALNAME:caldesm@caldesdemontbui.cat
X-WR-TIMEZONE:Europe/Madrid
DESCRIPTION:
URI:https://www.caldesdemontbui.cat/actualitat/agenda/5e-campionat-ralli-slot.html
CLASS:PUBLIC
END:VEVENT
END:VCALENDAR
