BEGIN:VCALENDAR
VERSION:2.0
CALSCALE:GREGORIAN
PRODID:-//Diputació de Barcelona//DibaCMS//EN
BEGIN:VEVENT
UID:6229
DTSTAMP:20260423T205922
DTSTART:20120201T000000
DTEND:20120201T000000
SUMMARY:De l'1 al 15 de febrer tindrà lloc a la Biblioteca de Caldes, l'Exposició: Maquetisme naval i militar
LOCATION:
METHOD:PUBLISH
X-WR-CALNAME:caldesm@caldesdemontbui.cat
X-WR-TIMEZONE:Europe/Madrid
DESCRIPTION:
URI:https://www.caldesdemontbui.cat/actualitat/agenda/de-l1-al-15-de-febrer-tindra-lloc-a-la-biblioteca-de-caldes-lexposicio-maquetisme-naval-i-militar.html
CLASS:PUBLIC
END:VEVENT
END:VCALENDAR
