BEGIN:VCALENDAR
VERSION:2.0
CALSCALE:GREGORIAN
PRODID:-//Diputació de Barcelona//DibaCMS//EN
BEGIN:VEVENT
UID:6228
DTSTAMP:20260424T035535
DTSTART:20120130T190000
DTEND:20120130T000000
SUMMARY:Club de lectura a la Biblioteca de Caldes. Xerrada sobre l'obra de David Grossman, Tota una vida.
LOCATION:
METHOD:PUBLISH
X-WR-CALNAME:caldesm@caldesdemontbui.cat
X-WR-TIMEZONE:Europe/Madrid
DESCRIPTION:
URI:https://www.caldesdemontbui.cat/actualitat/agenda/club-de-lectura-a-la-biblioteca-de-caldes-xerrada-sobre-lobra-de-david-grossman-tota-una-vida.html
CLASS:PUBLIC
END:VEVENT
END:VCALENDAR
