BEGIN:VCALENDAR
VERSION:2.0
CALSCALE:GREGORIAN
PRODID:-//Diputació de Barcelona//DibaCMS//EN
BEGIN:VEVENT
UID:6227
DTSTAMP:20260424T052935
DTSTART:20120129T180000
DTEND:20120129T000000
SUMMARY:Espai A. Espectacle "Els Colors de la Banda"
LOCATION:
METHOD:PUBLISH
X-WR-CALNAME:caldesm@caldesdemontbui.cat
X-WR-TIMEZONE:Europe/Madrid
DESCRIPTION:
URI:https://www.caldesdemontbui.cat/actualitat/agenda/espai-a-espectacle-els-colors-de-la-banda.html
CLASS:PUBLIC
END:VEVENT
END:VCALENDAR
