BEGIN:VCALENDAR
VERSION:2.0
CALSCALE:GREGORIAN
PRODID:-//Diputació de Barcelona//DibaCMS//EN
BEGIN:VEVENT
UID:6225
DTSTAMP:20260424T123219
DTSTART:20120127T180000
DTEND:20120127T000000
SUMMARY:Hora del conte: Qui no té nas?. A càrrec de Mon Mas
LOCATION:
METHOD:PUBLISH
X-WR-CALNAME:caldesm@caldesdemontbui.cat
X-WR-TIMEZONE:Europe/Madrid
DESCRIPTION:
URI:https://www.caldesdemontbui.cat/actualitat/agenda/hora-del-conte-qui-no-te-nas-a-carrec-de-mon-mas.html
CLASS:PUBLIC
END:VEVENT
END:VCALENDAR
