BEGIN:VCALENDAR
VERSION:2.0
CALSCALE:GREGORIAN
PRODID:-//Diputació de Barcelona//DibaCMS//EN
BEGIN:VEVENT
UID:6222
DTSTAMP:20260424T085339
DTSTART:20120122T000000
DTEND:20120122T000000
SUMMARY:Taller d'iniciació de muntanya hivernal a Ulldeter
LOCATION:
METHOD:PUBLISH
X-WR-CALNAME:caldesm@caldesdemontbui.cat
X-WR-TIMEZONE:Europe/Madrid
DESCRIPTION:
URI:https://www.caldesdemontbui.cat/actualitat/agenda/taller-diniciacio-de-muntanya-hivernal-a-ulldeter.html
CLASS:PUBLIC
END:VEVENT
END:VCALENDAR
