BEGIN:VCALENDAR
VERSION:2.0
CALSCALE:GREGORIAN
PRODID:-//Diputació de Barcelona//DibaCMS//EN
BEGIN:VEVENT
UID:6217
DTSTAMP:20260424T142728
DTSTART:20120120T120000
DTEND:20120120T000000
SUMMARY:Missa de Festa Major de Sant Sebastià de Montmajor
LOCATION:
METHOD:PUBLISH
X-WR-CALNAME:caldesm@caldesdemontbui.cat
X-WR-TIMEZONE:Europe/Madrid
DESCRIPTION:
URI:https://www.caldesdemontbui.cat/actualitat/agenda/missa-de-festa-major-de-sant-sebastia-de-montmajor.html
CLASS:PUBLIC
END:VEVENT
END:VCALENDAR
