BEGIN:VCALENDAR
VERSION:2.0
CALSCALE:GREGORIAN
PRODID:-//Diputació de Barcelona//DibaCMS//EN
BEGIN:VEVENT
UID:6216
DTSTAMP:20260424T052609
DTSTART:20120119T193000
DTEND:20120119T000000
SUMMARY:Xerrada: Catalunya - Euskadi
LOCATION:
METHOD:PUBLISH
X-WR-CALNAME:caldesm@caldesdemontbui.cat
X-WR-TIMEZONE:Europe/Madrid
DESCRIPTION:
URI:https://www.caldesdemontbui.cat/actualitat/agenda/xerrada-catalunya---euskadi.html
CLASS:PUBLIC
END:VEVENT
END:VCALENDAR
