BEGIN:VCALENDAR
VERSION:2.0
CALSCALE:GREGORIAN
PRODID:-//Diputació de Barcelona//DibaCMS//EN
BEGIN:VEVENT
UID:6215
DTSTAMP:20260424T023027
DTSTART:20120119T180000
DTEND:20120119T000000
SUMMARY:Contes en angles a la Biblioteca de Caldes: STORY TIME
LOCATION:
METHOD:PUBLISH
X-WR-CALNAME:caldesm@caldesdemontbui.cat
X-WR-TIMEZONE:Europe/Madrid
DESCRIPTION:
URI:https://www.caldesdemontbui.cat/actualitat/agenda/contes-en-angles-a-la-biblioteca-de-caldes-story-time.html
CLASS:PUBLIC
END:VEVENT
END:VCALENDAR
