BEGIN:VCALENDAR
VERSION:2.0
CALSCALE:GREGORIAN
PRODID:-//Diputació de Barcelona//DibaCMS//EN
BEGIN:VEVENT
UID:6214
DTSTAMP:20260424T123349
DTSTART:20120119T173000
DTEND:20120119T000000
SUMMARY:Xerrada: L'alimentació de 0 a 3 anys: dieta equilibrada, menjar sa"
LOCATION:
METHOD:PUBLISH
X-WR-CALNAME:caldesm@caldesdemontbui.cat
X-WR-TIMEZONE:Europe/Madrid
DESCRIPTION:
URI:https://www.caldesdemontbui.cat/actualitat/agenda/xerrada-lalimentacio-de-0-a-3-anys-dieta-equilibrada-menjar-sa.html
CLASS:PUBLIC
END:VEVENT
END:VCALENDAR
