BEGIN:VCALENDAR
VERSION:2.0
CALSCALE:GREGORIAN
PRODID:-//Diputació de Barcelona//DibaCMS//EN
BEGIN:VEVENT
UID:6213
DTSTAMP:20260423T193003
DTSTART:20120118T090000
DTEND:20120118T000000
SUMMARY:Caminada a piscines de Palau
LOCATION:
METHOD:PUBLISH
X-WR-CALNAME:caldesm@caldesdemontbui.cat
X-WR-TIMEZONE:Europe/Madrid
DESCRIPTION:
URI:https://www.caldesdemontbui.cat/actualitat/agenda/caminada-a-piscines-de-palau.html
CLASS:PUBLIC
END:VEVENT
END:VCALENDAR
