BEGIN:VCALENDAR
VERSION:2.0
CALSCALE:GREGORIAN
PRODID:-//Diputació de Barcelona//DibaCMS//EN
BEGIN:VEVENT
UID:6211
DTSTAMP:20260423T180813
DTSTART:20120114T200000
DTEND:20120114T000000
SUMMARY:Lliurament de premis del Concurs de pessebres de casa i del Concurs de dibuix
LOCATION:
METHOD:PUBLISH
X-WR-CALNAME:caldesm@caldesdemontbui.cat
X-WR-TIMEZONE:Europe/Madrid
DESCRIPTION:
URI:https://www.caldesdemontbui.cat/actualitat/agenda/lliurament-de-premis-del-concurs-de-pessebres-de-casa-i-del-concurs-de-dibuix.html
CLASS:PUBLIC
END:VEVENT
END:VCALENDAR
