BEGIN:VCALENDAR
VERSION:2.0
CALSCALE:GREGORIAN
PRODID:-//Diputació de Barcelona//DibaCMS//EN
BEGIN:VEVENT
UID:6209
DTSTAMP:20260423T192939
DTSTART:20120113T211500
DTEND:20120113T000000
SUMMARY:Assemblea general ordinària del CECMO
LOCATION:
METHOD:PUBLISH
X-WR-CALNAME:caldesm@caldesdemontbui.cat
X-WR-TIMEZONE:Europe/Madrid
DESCRIPTION:
URI:https://www.caldesdemontbui.cat/actualitat/agenda/assemblea-general-ordinaria-del-cecmo.html
CLASS:PUBLIC
END:VEVENT
END:VCALENDAR
