BEGIN:VCALENDAR
VERSION:2.0
CALSCALE:GREGORIAN
PRODID:-//Diputació de Barcelona//DibaCMS//EN
BEGIN:VEVENT
UID:6208
DTSTAMP:20260423T164611
DTSTART:20120113T180000
DTEND:20120113T000000
SUMMARY:Exposició de fotografies: Sis anys d'activitats del Centre Excursionista de Caldes i els seus socis
LOCATION:
METHOD:PUBLISH
X-WR-CALNAME:caldesm@caldesdemontbui.cat
X-WR-TIMEZONE:Europe/Madrid
DESCRIPTION:
URI:https://www.caldesdemontbui.cat/actualitat/agenda/exposicio-de-fotografies-sis-anys-dactivitats-del-centre-excursionista-de-caldes-i-els-seus-socis.html
CLASS:PUBLIC
END:VEVENT
END:VCALENDAR
