BEGIN:VCALENDAR
VERSION:2.0
CALSCALE:GREGORIAN
PRODID:-//Diputació de Barcelona//DibaCMS//EN
BEGIN:VEVENT
UID:6205
DTSTAMP:20260424T085152
DTSTART:20120111T090000
DTEND:20120111T000000
SUMMARY:Caminada a Can Falguera
LOCATION:
METHOD:PUBLISH
X-WR-CALNAME:caldesm@caldesdemontbui.cat
X-WR-TIMEZONE:Europe/Madrid
DESCRIPTION:
URI:https://www.caldesdemontbui.cat/actualitat/agenda/caminada-a-can-falguera.html
CLASS:PUBLIC
END:VEVENT
END:VCALENDAR
