BEGIN:VCALENDAR
VERSION:2.0
CALSCALE:GREGORIAN
PRODID:-//Diputació de Barcelona//DibaCMS//EN
BEGIN:VEVENT
UID:6204
DTSTAMP:20260423T194942
DTSTART:20120107T190000
DTEND:20120107T000000
SUMMARY:Vine a ajudar-nos a construir un arbre solidari! (Del 3 de desembre al 7 de gener)
LOCATION:
METHOD:PUBLISH
X-WR-CALNAME:caldesm@caldesdemontbui.cat
X-WR-TIMEZONE:Europe/Madrid
DESCRIPTION:
URI:https://www.caldesdemontbui.cat/actualitat/agenda/vine-a-ajudar-nos-a-construir-un-arbre-solidari-del-3-de-desembre-al-7-de-gener.html
CLASS:PUBLIC
END:VEVENT
END:VCALENDAR
