BEGIN:VCALENDAR
VERSION:2.0
CALSCALE:GREGORIAN
PRODID:-//Diputació de Barcelona//DibaCMS//EN
BEGIN:VEVENT
UID:6203
DTSTAMP:20260423T163424
DTSTART:20120107T090000
DTEND:20120107T000000
SUMMARY:Portes A. C. Aikido-Sakaki: Meditació Zen, Chi Kung i Aikido
LOCATION:
METHOD:PUBLISH
X-WR-CALNAME:caldesm@caldesdemontbui.cat
X-WR-TIMEZONE:Europe/Madrid
DESCRIPTION:
URI:https://www.caldesdemontbui.cat/actualitat/agenda/portes-a-c-aikido-sakaki-meditacio-zen-chi-kung-i-aikido.html
CLASS:PUBLIC
END:VEVENT
END:VCALENDAR
