BEGIN:VCALENDAR
VERSION:2.0
CALSCALE:GREGORIAN
PRODID:-//Diputació de Barcelona//DibaCMS//EN
BEGIN:VEVENT
UID:6200
DTSTAMP:20260423T144549
DTSTART:20120105T203000
DTEND:20120105T000000
SUMMARY:Parlament i repartiment de regals als infants de Caldes a càrrec dels Reis de SM Els Reis d'Orient
LOCATION:
METHOD:PUBLISH
X-WR-CALNAME:caldesm@caldesdemontbui.cat
X-WR-TIMEZONE:Europe/Madrid
DESCRIPTION:
URI:https://www.caldesdemontbui.cat/actualitat/agenda/parlament-i-repartiment-de-regals-als-infants-de-caldes-a-carrec-dels-reis-de-sm-els-reis-dorient.html
CLASS:PUBLIC
END:VEVENT
END:VCALENDAR
