BEGIN:VCALENDAR
VERSION:2.0
CALSCALE:GREGORIAN
PRODID:-//Diputació de Barcelona//DibaCMS//EN
BEGIN:VEVENT
UID:6197
DTSTAMP:20260424T171955
DTSTART:20120105T000000
DTEND:20120105T000000
SUMMARY:5a campanya "Demana un llibre als Reis!". De l'1 de desembre al 4 de gener
LOCATION:
METHOD:PUBLISH
X-WR-CALNAME:caldesm@caldesdemontbui.cat
X-WR-TIMEZONE:Europe/Madrid
DESCRIPTION:
URI:https://www.caldesdemontbui.cat/actualitat/agenda/5a-campanya-demana-un-llibre-als-reis-de-l1-de-desembre-al-4-de-gener.html
CLASS:PUBLIC
END:VEVENT
END:VCALENDAR
