BEGIN:VCALENDAR
VERSION:2.0
CALSCALE:GREGORIAN
PRODID:-//Diputació de Barcelona//DibaCMS//EN
BEGIN:VEVENT
UID:6196
DTSTAMP:20260424T171839
DTSTART:20120105T000000
DTEND:20120105T000000
SUMMARY:Campanya de recollida de joguines: "Joc apte per a tothom. Ara, més que mai, és el teu torn". De l'1 de desembre al 5 de gener
LOCATION:
METHOD:PUBLISH
X-WR-CALNAME:caldesm@caldesdemontbui.cat
X-WR-TIMEZONE:Europe/Madrid
DESCRIPTION:
URI:https://www.caldesdemontbui.cat/actualitat/agenda/campanya-de-recollida-de-joguines-joc-apte-per-a-tothom-ara-mes-que-mai-es-el-teu-torn-de-l1-de-desembre-al-5-de-gener.html
CLASS:PUBLIC
END:VEVENT
END:VCALENDAR
