BEGIN:VCALENDAR
VERSION:2.0
CALSCALE:GREGORIAN
PRODID:-//Diputació de Barcelona//DibaCMS//EN
BEGIN:VEVENT
UID:6195
DTSTAMP:20260424T205554
DTSTART:20120104T180000
DTEND:20120104T000000
SUMMARY:Espectacle infantil "Un Nadal ple de contes" i trobada amb el Llibreter Reial Lloc
LOCATION:
METHOD:PUBLISH
X-WR-CALNAME:caldesm@caldesdemontbui.cat
X-WR-TIMEZONE:Europe/Madrid
DESCRIPTION:
URI:https://www.caldesdemontbui.cat/actualitat/agenda/espectacle-infantil-un-nadal-ple-de-contes-i-trobada-amb-el-llibreter-reial-lloc.html
CLASS:PUBLIC
END:VEVENT
END:VCALENDAR
