BEGIN:VCALENDAR
VERSION:2.0
CALSCALE:GREGORIAN
PRODID:-//Diputació de Barcelona//DibaCMS//EN
BEGIN:VEVENT
UID:6194
DTSTAMP:20260424T172011
DTSTART:20120104T180000
DTEND:20120104T000000
SUMMARY:5a edició de la campanya "Demana un llibre als reis"
LOCATION:
METHOD:PUBLISH
X-WR-CALNAME:caldesm@caldesdemontbui.cat
X-WR-TIMEZONE:Europe/Madrid
DESCRIPTION:
URI:https://www.caldesdemontbui.cat/actualitat/agenda/5a-edicio-de-la-campanya-demana-un-llibre-als-reis.html
CLASS:PUBLIC
END:VEVENT
END:VCALENDAR
