BEGIN:VCALENDAR
VERSION:2.0
CALSCALE:GREGORIAN
PRODID:-//Diputació de Barcelona//DibaCMS//EN
BEGIN:VEVENT
UID:6189
DTSTAMP:20260424T190940
DTSTART:20111227T090000
DTEND:20111227T000000
SUMMARY:Casal de Nadal del CN Caldes per a infants de P3 a 6è
LOCATION:
METHOD:PUBLISH
X-WR-CALNAME:caldesm@caldesdemontbui.cat
X-WR-TIMEZONE:Europe/Madrid
DESCRIPTION:
URI:https://www.caldesdemontbui.cat/actualitat/agenda/casal-de-nadal-del-cn-caldes-per-a-infants-de-p3-a-6e.html
CLASS:PUBLIC
END:VEVENT
END:VCALENDAR
